BEGIN:VCALENDAR
VERSION:2.0
PRODID:-//Employee Assistance Professionals Association - ECPv4.5.12.2//NONSGML v1.0//EN
CALSCALE:GREGORIAN
METHOD:PUBLISH
X-WR-CALNAME:Employee Assistance Professionals Association
X-ORIGINAL-URL:https://eapaireland.ie
X-WR-CALDESC:Events for Employee Assistance Professionals Association
BEGIN:VEVENT
DTSTART;TZID=UTC+0:20170407T093000
DTEND;TZID=UTC+0:20170407T123000
DTSTAMP:20171107T124249
CREATED:20170209T002730Z
LAST-MODIFIED:20170320T112211Z
UID:509-1491557400-1491568200@eapaireland.ie
SUMMARY:Suicide Prevention: QPR Gatekeeper Training with Anne Lynch
DESCRIPTION:QPR (Question\, Persuade\, and Refer) Gatekeeper Training for Suicide Prevention is an educational program designed by Dr Paul Quinnette (Author and Psychologist) in Washington. The approach is designed to teach lay and professional “gatekeepers” the warning signs of a suicide crisis and how to respond. Gatekeepers can include anyone who is strategically positioned to recognize and refer someone at risk of suicide. The workshop will be delivered in an informative style and will be interactive in nature\, allowing time for questions and answers. The workshop will support the attendees to attune to what is and is not being said and how to ask “the suicide question”. \nKey components covered in training: \n\nHow to Question\, Persuade and Refer (QPR) someone who may be suicidal\nHow to get help for yourself or learn more about preventing suicide\nThe common causes of suicidal behavior\nThe warning signs of suicide\nHow to get help for someone in crisis\n\nPresenter’s Profile\nAnne Lynch\nAnne is an experienced and accredited psychotherapist and an accredited QPR instructor. \nShe has extensive experience as a professional working in the field of suicide and recognises the value of the QPR training for professionals working in the field but also for all those who may come in contact with someone in emotional distress. She has wide experience in working with both the suicidal bereaved and those who are are considering or contemplating  suicide. \n
URL:https://eapaireland.ie/event/suicide-prevention-qpr-gatekeeper-training-with-anne-lynch/
LOCATION:35-39 Abbey Street Lower\, Dublin-1\, D01 C9F8\, Ireland
ORGANIZER;CN="EAPA%20Ireland":MAILTO:info@eapaireland.ie
END:VEVENT
END:VCALENDAR